BEGIN:VCALENDAR
VERSION:2.0
PRODID:-//GoRetroGaming - ECPv6.15.20//NONSGML v1.0//EN
CALSCALE:GREGORIAN
METHOD:PUBLISH
X-WR-CALNAME:GoRetroGaming
X-ORIGINAL-URL:https://www.goretrogaming.com
X-WR-CALDESC:Évènements pour GoRetroGaming
REFRESH-INTERVAL;VALUE=DURATION:PT1H
X-Robots-Tag:noindex
X-PUBLISHED-TTL:PT1H
BEGIN:VTIMEZONE
TZID:Europe/Paris
BEGIN:DAYLIGHT
TZOFFSETFROM:+0100
TZOFFSETTO:+0200
TZNAME:CEST
DTSTART:20250330T010000
END:DAYLIGHT
BEGIN:STANDARD
TZOFFSETFROM:+0200
TZOFFSETTO:+0100
TZNAME:CET
DTSTART:20251026T010000
END:STANDARD
BEGIN:DAYLIGHT
TZOFFSETFROM:+0100
TZOFFSETTO:+0200
TZNAME:CEST
DTSTART:20260329T010000
END:DAYLIGHT
BEGIN:STANDARD
TZOFFSETFROM:+0200
TZOFFSETTO:+0100
TZNAME:CET
DTSTART:20261025T010000
END:STANDARD
BEGIN:DAYLIGHT
TZOFFSETFROM:+0100
TZOFFSETTO:+0200
TZNAME:CEST
DTSTART:20270328T010000
END:DAYLIGHT
BEGIN:STANDARD
TZOFFSETFROM:+0200
TZOFFSETTO:+0100
TZNAME:CET
DTSTART:20271031T010000
END:STANDARD
END:VTIMEZONE
BEGIN:VEVENT
DTSTART;TZID=Europe/Paris:20260410T190000
DTEND;TZID=Europe/Paris:20260410T190000
DTSTAMP:20260419T155451
CREATED:20260405T084710Z
LAST-MODIFIED:20260405T194028Z
UID:21235-1775847600-1775847600@www.goretrogaming.com
SUMMARY:Tournoi Lorcana : Win a TROVE !
DESCRIPTION:✨ Tournoi Disney Lorcana chez GoRetroGaming ! ✨ \nAvis aux Illumineurs\, venez gagner votre trove pack ! 🪄\nRejoignez-nous pour un tournoi de Disney Lorcana le vendredi 10 Avril à 19h chez GoRetroGaming à Antibes. \n📍 Lieu :\nGoRetroGaming\n2793 chemin de Saint-Claude\n06600 Antibes \n💰 PAF : 12€ \n🎁 Lots (exemple pour 8 joueurs)\nLots évolutifs selon le nombre de participants \n🥇 1er ➝ 1 Trove au choix\n🥈 2e ➝ 2 Boosters au choix + Carte Promo\n🥉 3e ➝ 1 Booster au choix + Carte Promo\n4e et suivants ➝ 1 Booster au choix + Carte Promo \n🎴 Que vous soyez joueur compétitif ou fan de l’univers Disney\, venez partager une soirée conviviale autour de Lorcana ! \n⚡ Inscription obligatoire :\nhttps://tcg.ravensburgerplay.com/events/411277 \n📣 N’hésitez pas à inviter vos amis et à partager l’événement !
URL:https://www.goretrogaming.com/evenement/tournoi-lorcana-win-a-trove-2/
LOCATION:Goretrogaming (Antibes)
CATEGORIES:Tournois TCG
ATTACH;FMTTYPE=image/jpeg:https://www.goretrogaming.com/wp-content/uploads/2026/04/21235_image_663129332_1540344321424930_3230077128952967011_n.jpg
END:VEVENT
END:VCALENDAR