BEGIN:VCALENDAR
VERSION:2.0
PRODID:-//GoRetroGaming - ECPv6.15.20//NONSGML v1.0//EN
CALSCALE:GREGORIAN
METHOD:PUBLISH
X-WR-CALNAME:GoRetroGaming
X-ORIGINAL-URL:https://www.goretrogaming.com
X-WR-CALDESC:Évènements pour GoRetroGaming
REFRESH-INTERVAL;VALUE=DURATION:PT1H
X-Robots-Tag:noindex
X-PUBLISHED-TTL:PT1H
BEGIN:VTIMEZONE
TZID:Europe/Paris
BEGIN:DAYLIGHT
TZOFFSETFROM:+0100
TZOFFSETTO:+0200
TZNAME:CEST
DTSTART:20250330T010000
END:DAYLIGHT
BEGIN:STANDARD
TZOFFSETFROM:+0200
TZOFFSETTO:+0100
TZNAME:CET
DTSTART:20251026T010000
END:STANDARD
BEGIN:DAYLIGHT
TZOFFSETFROM:+0100
TZOFFSETTO:+0200
TZNAME:CEST
DTSTART:20260329T010000
END:DAYLIGHT
BEGIN:STANDARD
TZOFFSETFROM:+0200
TZOFFSETTO:+0100
TZNAME:CET
DTSTART:20261025T010000
END:STANDARD
BEGIN:DAYLIGHT
TZOFFSETFROM:+0100
TZOFFSETTO:+0200
TZNAME:CEST
DTSTART:20270328T010000
END:DAYLIGHT
BEGIN:STANDARD
TZOFFSETFROM:+0200
TZOFFSETTO:+0100
TZNAME:CET
DTSTART:20271031T010000
END:STANDARD
END:VTIMEZONE
BEGIN:VEVENT
DTSTART;TZID=Europe/Paris:20260502T190000
DTEND;TZID=Europe/Paris:20260502T234500
DTSTAMP:20260419T155354
CREATED:20251022T092536Z
LAST-MODIFIED:20251022T092536Z
UID:16643-1777748400-1777765500@www.goretrogaming.com
SUMMARY:Tournoi Altered hebdomadaire classique
DESCRIPTION:⚔️ Les tournois Altered débarquent chaque semaine dans notre salle de jeux !\nViens vivre l’aventure\, échanger\, explorer et défier d’autres passionnés autour du nouveau TCG phénomène 🌿 \n📅 Tournois hebdomadaires\n🕓 Chaque samedi soir à 19h\n📍 GoRetroGaming au 2793 chemin de Saint-Claude 06600 Antibes\n🎁 Lots\, fun et bonne ambiance garantis ! PAF : 5€. \nQue tu sois joueur confirmé ou simple curieux\, Altered t’attend pour écrire ta propre légende. \n🔥 Réserve ta place dès maintenant sur Altered.gg et rejoins la communauté !
URL:https://www.goretrogaming.com/evenement/tournoi-altered-hebdomadaire-classique-25/
LOCATION:GoRetroGaming
CATEGORIES:Tournois TCG
ATTACH;FMTTYPE=image/jpeg:https://www.goretrogaming.com/wp-content/uploads/2025/10/16618_image_567470436_1396661622459868_1605078974289521798_n.jpg
END:VEVENT
BEGIN:VEVENT
DTSTART;TZID=Europe/Paris:20260503T140000
DTEND;TZID=Europe/Paris:20260503T180000
DTSTAMP:20260419T155354
CREATED:20251022T120757Z
LAST-MODIFIED:20251022T120757Z
UID:16705-1777816800-1777831200@www.goretrogaming.com
SUMMARY:Tournois Multi-TCG hebdomadaires classiques
DESCRIPTION:⚔️ Les tournois officiels Pokémon\, Dragon Ball Super Card Game\, One Piece et Yu-Gi-Oh ! débarquent chaque semaine dans notre salle de jeux ! \n📅 Tournois hebdomadaires\n🕓 Chaque Dimanche à 14h\n📍 GoRetroGaming au 2793 chemin de Saint-Claude 06600 Antibes\n🎁 Lots (cartes promos\, boosters\, goodies)\, fun et bonne ambiance garantis ! \nQue tu sois joueur confirmé ou simple curieux\, La communauté de chaque TCG t’attend pour passer un agréable moment. \n🔥 Réserve ta place dès maintenant sur Bandai TCG+ pour Dragon Ball et One Piece ! PAF : 5€. \n🔥 Réserve ta place dès maintenant sur Neuron pour Yu-Gi-Oh ! PAF : 7€ avec une boisson incluse. \n🔥 Prépare ton ID pour Pokémon ! PAF : 5€.
URL:https://www.goretrogaming.com/evenement/tournois-multi-tcg-hebdomadaires-classiques-25/
LOCATION:GoRetroGaming
CATEGORIES:Tournois TCG
ATTACH;FMTTYPE=image/jpeg:https://www.goretrogaming.com/wp-content/uploads/2025/10/16680_image_560607324_1396796529113044_1715160599748562163_n.jpg
END:VEVENT
BEGIN:VEVENT
DTSTART;TZID=Europe/Paris:20260509T190000
DTEND;TZID=Europe/Paris:20260509T234500
DTSTAMP:20260419T155354
CREATED:20251022T092535Z
LAST-MODIFIED:20251022T092535Z
UID:16642-1778353200-1778370300@www.goretrogaming.com
SUMMARY:Tournoi Altered hebdomadaire classique
DESCRIPTION:⚔️ Les tournois Altered débarquent chaque semaine dans notre salle de jeux !\nViens vivre l’aventure\, échanger\, explorer et défier d’autres passionnés autour du nouveau TCG phénomène 🌿 \n📅 Tournois hebdomadaires\n🕓 Chaque samedi soir à 19h\n📍 GoRetroGaming au 2793 chemin de Saint-Claude 06600 Antibes\n🎁 Lots\, fun et bonne ambiance garantis ! PAF : 5€. \nQue tu sois joueur confirmé ou simple curieux\, Altered t’attend pour écrire ta propre légende. \n🔥 Réserve ta place dès maintenant sur Altered.gg et rejoins la communauté !
URL:https://www.goretrogaming.com/evenement/tournoi-altered-hebdomadaire-classique-24/
LOCATION:GoRetroGaming
CATEGORIES:Tournois TCG
ATTACH;FMTTYPE=image/jpeg:https://www.goretrogaming.com/wp-content/uploads/2025/10/16618_image_567470436_1396661622459868_1605078974289521798_n.jpg
END:VEVENT
BEGIN:VEVENT
DTSTART;TZID=Europe/Paris:20260510T140000
DTEND;TZID=Europe/Paris:20260510T180000
DTSTAMP:20260419T155354
CREATED:20251022T120757Z
LAST-MODIFIED:20251022T120757Z
UID:16704-1778421600-1778436000@www.goretrogaming.com
SUMMARY:Tournois Multi-TCG hebdomadaires classiques
DESCRIPTION:⚔️ Les tournois officiels Pokémon\, Dragon Ball Super Card Game\, One Piece et Yu-Gi-Oh ! débarquent chaque semaine dans notre salle de jeux ! \n📅 Tournois hebdomadaires\n🕓 Chaque Dimanche à 14h\n📍 GoRetroGaming au 2793 chemin de Saint-Claude 06600 Antibes\n🎁 Lots (cartes promos\, boosters\, goodies)\, fun et bonne ambiance garantis ! \nQue tu sois joueur confirmé ou simple curieux\, La communauté de chaque TCG t’attend pour passer un agréable moment. \n🔥 Réserve ta place dès maintenant sur Bandai TCG+ pour Dragon Ball et One Piece ! PAF : 5€. \n🔥 Réserve ta place dès maintenant sur Neuron pour Yu-Gi-Oh ! PAF : 7€ avec une boisson incluse. \n🔥 Prépare ton ID pour Pokémon ! PAF : 5€.
URL:https://www.goretrogaming.com/evenement/tournois-multi-tcg-hebdomadaires-classiques-24/
LOCATION:GoRetroGaming
CATEGORIES:Tournois TCG
ATTACH;FMTTYPE=image/jpeg:https://www.goretrogaming.com/wp-content/uploads/2025/10/16680_image_560607324_1396796529113044_1715160599748562163_n.jpg
END:VEVENT
BEGIN:VEVENT
DTSTART;TZID=Europe/Paris:20260516T190000
DTEND;TZID=Europe/Paris:20260516T234500
DTSTAMP:20260419T155354
CREATED:20251022T092535Z
LAST-MODIFIED:20251022T092535Z
UID:16641-1778958000-1778975100@www.goretrogaming.com
SUMMARY:Tournoi Altered hebdomadaire classique
DESCRIPTION:⚔️ Les tournois Altered débarquent chaque semaine dans notre salle de jeux !\nViens vivre l’aventure\, échanger\, explorer et défier d’autres passionnés autour du nouveau TCG phénomène 🌿 \n📅 Tournois hebdomadaires\n🕓 Chaque samedi soir à 19h\n📍 GoRetroGaming au 2793 chemin de Saint-Claude 06600 Antibes\n🎁 Lots\, fun et bonne ambiance garantis ! PAF : 5€. \nQue tu sois joueur confirmé ou simple curieux\, Altered t’attend pour écrire ta propre légende. \n🔥 Réserve ta place dès maintenant sur Altered.gg et rejoins la communauté !
URL:https://www.goretrogaming.com/evenement/tournoi-altered-hebdomadaire-classique-23/
LOCATION:GoRetroGaming
CATEGORIES:Tournois TCG
ATTACH;FMTTYPE=image/jpeg:https://www.goretrogaming.com/wp-content/uploads/2025/10/16618_image_567470436_1396661622459868_1605078974289521798_n.jpg
END:VEVENT
BEGIN:VEVENT
DTSTART;TZID=Europe/Paris:20260517T140000
DTEND;TZID=Europe/Paris:20260517T180000
DTSTAMP:20260419T155354
CREATED:20251022T120757Z
LAST-MODIFIED:20251022T120757Z
UID:16703-1779026400-1779040800@www.goretrogaming.com
SUMMARY:Tournois Multi-TCG hebdomadaires classiques
DESCRIPTION:⚔️ Les tournois officiels Pokémon\, Dragon Ball Super Card Game\, One Piece et Yu-Gi-Oh ! débarquent chaque semaine dans notre salle de jeux ! \n📅 Tournois hebdomadaires\n🕓 Chaque Dimanche à 14h\n📍 GoRetroGaming au 2793 chemin de Saint-Claude 06600 Antibes\n🎁 Lots (cartes promos\, boosters\, goodies)\, fun et bonne ambiance garantis ! \nQue tu sois joueur confirmé ou simple curieux\, La communauté de chaque TCG t’attend pour passer un agréable moment. \n🔥 Réserve ta place dès maintenant sur Bandai TCG+ pour Dragon Ball et One Piece ! PAF : 5€. \n🔥 Réserve ta place dès maintenant sur Neuron pour Yu-Gi-Oh ! PAF : 7€ avec une boisson incluse. \n🔥 Prépare ton ID pour Pokémon ! PAF : 5€.
URL:https://www.goretrogaming.com/evenement/tournois-multi-tcg-hebdomadaires-classiques-23/
LOCATION:GoRetroGaming
CATEGORIES:Tournois TCG
ATTACH;FMTTYPE=image/jpeg:https://www.goretrogaming.com/wp-content/uploads/2025/10/16680_image_560607324_1396796529113044_1715160599748562163_n.jpg
END:VEVENT
BEGIN:VEVENT
DTSTART;TZID=Europe/Paris:20260523T190000
DTEND;TZID=Europe/Paris:20260523T234500
DTSTAMP:20260419T155354
CREATED:20251022T092535Z
LAST-MODIFIED:20251022T092535Z
UID:16640-1779562800-1779579900@www.goretrogaming.com
SUMMARY:Tournoi Altered hebdomadaire classique
DESCRIPTION:⚔️ Les tournois Altered débarquent chaque semaine dans notre salle de jeux !\nViens vivre l’aventure\, échanger\, explorer et défier d’autres passionnés autour du nouveau TCG phénomène 🌿 \n📅 Tournois hebdomadaires\n🕓 Chaque samedi soir à 19h\n📍 GoRetroGaming au 2793 chemin de Saint-Claude 06600 Antibes\n🎁 Lots\, fun et bonne ambiance garantis ! PAF : 5€. \nQue tu sois joueur confirmé ou simple curieux\, Altered t’attend pour écrire ta propre légende. \n🔥 Réserve ta place dès maintenant sur Altered.gg et rejoins la communauté !
URL:https://www.goretrogaming.com/evenement/tournoi-altered-hebdomadaire-classique-22/
LOCATION:GoRetroGaming
CATEGORIES:Tournois TCG
ATTACH;FMTTYPE=image/jpeg:https://www.goretrogaming.com/wp-content/uploads/2025/10/16618_image_567470436_1396661622459868_1605078974289521798_n.jpg
END:VEVENT
BEGIN:VEVENT
DTSTART;TZID=Europe/Paris:20260524T140000
DTEND;TZID=Europe/Paris:20260524T180000
DTSTAMP:20260419T155354
CREATED:20251022T120757Z
LAST-MODIFIED:20251022T120757Z
UID:16702-1779631200-1779645600@www.goretrogaming.com
SUMMARY:Tournois Multi-TCG hebdomadaires classiques
DESCRIPTION:⚔️ Les tournois officiels Pokémon\, Dragon Ball Super Card Game\, One Piece et Yu-Gi-Oh ! débarquent chaque semaine dans notre salle de jeux ! \n📅 Tournois hebdomadaires\n🕓 Chaque Dimanche à 14h\n📍 GoRetroGaming au 2793 chemin de Saint-Claude 06600 Antibes\n🎁 Lots (cartes promos\, boosters\, goodies)\, fun et bonne ambiance garantis ! \nQue tu sois joueur confirmé ou simple curieux\, La communauté de chaque TCG t’attend pour passer un agréable moment. \n🔥 Réserve ta place dès maintenant sur Bandai TCG+ pour Dragon Ball et One Piece ! PAF : 5€. \n🔥 Réserve ta place dès maintenant sur Neuron pour Yu-Gi-Oh ! PAF : 7€ avec une boisson incluse. \n🔥 Prépare ton ID pour Pokémon ! PAF : 5€.
URL:https://www.goretrogaming.com/evenement/tournois-multi-tcg-hebdomadaires-classiques-22/
LOCATION:GoRetroGaming
CATEGORIES:Tournois TCG
ATTACH;FMTTYPE=image/jpeg:https://www.goretrogaming.com/wp-content/uploads/2025/10/16680_image_560607324_1396796529113044_1715160599748562163_n.jpg
END:VEVENT
BEGIN:VEVENT
DTSTART;TZID=Europe/Paris:20260530T190000
DTEND;TZID=Europe/Paris:20260530T234500
DTSTAMP:20260419T155354
CREATED:20251022T092535Z
LAST-MODIFIED:20251022T092535Z
UID:16639-1780167600-1780184700@www.goretrogaming.com
SUMMARY:Tournoi Altered hebdomadaire classique
DESCRIPTION:⚔️ Les tournois Altered débarquent chaque semaine dans notre salle de jeux !\nViens vivre l’aventure\, échanger\, explorer et défier d’autres passionnés autour du nouveau TCG phénomène 🌿 \n📅 Tournois hebdomadaires\n🕓 Chaque samedi soir à 19h\n📍 GoRetroGaming au 2793 chemin de Saint-Claude 06600 Antibes\n🎁 Lots\, fun et bonne ambiance garantis ! PAF : 5€. \nQue tu sois joueur confirmé ou simple curieux\, Altered t’attend pour écrire ta propre légende. \n🔥 Réserve ta place dès maintenant sur Altered.gg et rejoins la communauté !
URL:https://www.goretrogaming.com/evenement/tournoi-altered-hebdomadaire-classique-21/
LOCATION:GoRetroGaming
CATEGORIES:Tournois TCG
ATTACH;FMTTYPE=image/jpeg:https://www.goretrogaming.com/wp-content/uploads/2025/10/16618_image_567470436_1396661622459868_1605078974289521798_n.jpg
END:VEVENT
BEGIN:VEVENT
DTSTART;TZID=Europe/Paris:20260531T140000
DTEND;TZID=Europe/Paris:20260531T180000
DTSTAMP:20260419T155354
CREATED:20251022T120757Z
LAST-MODIFIED:20251022T120757Z
UID:16701-1780236000-1780250400@www.goretrogaming.com
SUMMARY:Tournois Multi-TCG hebdomadaires classiques
DESCRIPTION:⚔️ Les tournois officiels Pokémon\, Dragon Ball Super Card Game\, One Piece et Yu-Gi-Oh ! débarquent chaque semaine dans notre salle de jeux ! \n📅 Tournois hebdomadaires\n🕓 Chaque Dimanche à 14h\n📍 GoRetroGaming au 2793 chemin de Saint-Claude 06600 Antibes\n🎁 Lots (cartes promos\, boosters\, goodies)\, fun et bonne ambiance garantis ! \nQue tu sois joueur confirmé ou simple curieux\, La communauté de chaque TCG t’attend pour passer un agréable moment. \n🔥 Réserve ta place dès maintenant sur Bandai TCG+ pour Dragon Ball et One Piece ! PAF : 5€. \n🔥 Réserve ta place dès maintenant sur Neuron pour Yu-Gi-Oh ! PAF : 7€ avec une boisson incluse. \n🔥 Prépare ton ID pour Pokémon ! PAF : 5€.
URL:https://www.goretrogaming.com/evenement/tournois-multi-tcg-hebdomadaires-classiques-21/
LOCATION:GoRetroGaming
CATEGORIES:Tournois TCG
ATTACH;FMTTYPE=image/jpeg:https://www.goretrogaming.com/wp-content/uploads/2025/10/16680_image_560607324_1396796529113044_1715160599748562163_n.jpg
END:VEVENT
END:VCALENDAR